BEGIN:VCALENDAR
VERSION:2.0
PRODID:-//Inmobiliaria Confianza - ECPv6.15.13//NONSGML v1.0//EN
CALSCALE:GREGORIAN
METHOD:PUBLISH
X-ORIGINAL-URL:https://inmoconfianza.com
X-WR-CALDESC:Eventos para Inmobiliaria Confianza
REFRESH-INTERVAL;VALUE=DURATION:PT1H
X-Robots-Tag:noindex
X-PUBLISHED-TTL:PT1H
BEGIN:VTIMEZONE
TZID:UTC
BEGIN:STANDARD
TZOFFSETFROM:+0000
TZOFFSETTO:+0000
TZNAME:UTC
DTSTART:20250101T000000
END:STANDARD
END:VTIMEZONE
BEGIN:VEVENT
DTSTART;VALUE=DATE:20260501
DTEND;VALUE=DATE:20260504
DTSTAMP:20260422T014655
CREATED:20260219T121042Z
LAST-MODIFIED:20260219T121218Z
UID:1067-1777593600-1777852799@inmoconfianza.com
SUMMARY:Finde XXL del Trabajador!
DESCRIPTION:El Día Internacional de los Trabajadores o Primero de Mayo es la conmemoración del movimiento obrero mundial. Es una jornada que se ha utilizado\, habitualmente\, para realizar diferentes reivindicaciones sociales y laborales a favor de las clases trabajadoras. Es día festivo nacional en la mayoría de países. Viernes 1° de Mayo feriado inamovible
URL:https://inmoconfianza.com/event/finde-xxl-del-trabajador/
END:VEVENT
BEGIN:VEVENT
DTSTART;VALUE=DATE:20260522
DTEND;VALUE=DATE:20260526
DTSTAMP:20260422T014655
CREATED:20260219T121458Z
LAST-MODIFIED:20260219T121458Z
UID:1069-1779408000-1779753599@inmoconfianza.com
SUMMARY:Finde XXL: Revolución de Mayo de 1810 - Somos libres!
DESCRIPTION:25 de mayo (Día de la Revolución de Mayo): Este feriado inamovible caerá lunes. También podrás disfrutar de un finde largo desde el viernes hasta el lunes inclusive
URL:https://inmoconfianza.com/event/finde-xxl-revolucion-de-mayo-de-1810-somos-libres/
END:VEVENT
BEGIN:VEVENT
DTSTART;VALUE=DATE:20260612
DTEND;VALUE=DATE:20260616
DTSTAMP:20260422T014655
CREATED:20260219T121739Z
LAST-MODIFIED:20260219T121739Z
UID:1071-1781222400-1781567999@inmoconfianza.com
SUMMARY:Paso a la Inmortalidad del General Martín Miguel de Güemes
DESCRIPTION:Paso a la Inmortalidad del General Martín Miguel de Güemes (feriado trasladable; se conmemora el 17\, pero se traslada al lunes 15 por fines turísticos)
URL:https://inmoconfianza.com/event/paso-a-la-inmortalidad-del-general-martin-miguel-de-guemes/
END:VEVENT
BEGIN:VEVENT
DTSTART;VALUE=DATE:20260709
DTEND;VALUE=DATE:20260713
DTSTAMP:20260422T014655
CREATED:20260219T122041Z
LAST-MODIFIED:20260219T122041Z
UID:1073-1783555200-1783900799@inmoconfianza.com
SUMMARY:Feriado XXL: Viva la Independencia!!!
DESCRIPTION:El 9 de Julio cae jueves este año\, y para incentivar al turismo\, el viernes 10 es feriado puente! Invierno es una hermosa época para visitar el Paso
URL:https://inmoconfianza.com/event/feriado-xxl-viva-la-independencia/
END:VEVENT
BEGIN:VEVENT
DTSTART;VALUE=DATE:20260814
DTEND;VALUE=DATE:20260818
DTSTAMP:20260422T014655
CREATED:20260219T122239Z
LAST-MODIFIED:20260219T122239Z
UID:1075-1786665600-1787011199@inmoconfianza.com
SUMMARY:Finde XXL: Fiesta Nacional del Dorado
DESCRIPTION:Recordamos el paso a la Inmortalidad del General Don José de San Martín\, y nuestra Villa Turística se llena de vida en la Fiesta Nacional del Dorado
URL:https://inmoconfianza.com/event/finde-xxl-fiesta-nacional-del-dorado/
END:VEVENT
BEGIN:VEVENT
DTSTART;VALUE=DATE:20261009
DTEND;VALUE=DATE:20261013
DTSTAMP:20260422T014655
CREATED:20260219T122721Z
LAST-MODIFIED:20260219T122721Z
UID:1077-1791504000-1791849599@inmoconfianza.com
SUMMARY:Finde XXL: Día del Respeto a la Diversidad Cultural (Día de la Raza)
DESCRIPTION:Día de la Raza una de las denominaciones que se da al 12 de octubre\, en que se conmemora la llegada a América del navegante Cristóbal Colón en 1492. Este día se celebra en la mayoría de los países hispanoamericanos y Estados Unidos\, entre otros países.
URL:https://inmoconfianza.com/event/finde-xxl-dia-del-respeto-a-la-diversidad-cultural-dia-de-la-raza/
END:VEVENT
BEGIN:VEVENT
DTSTART;VALUE=DATE:20261120
DTEND;VALUE=DATE:20261124
DTSTAMP:20260422T014655
CREATED:20260219T122845Z
LAST-MODIFIED:20260219T122845Z
UID:1079-1795132800-1795478399@inmoconfianza.com
SUMMARY:Lunes 23 de Noviembre: Día de la Soberanía Nacional
DESCRIPTION:La fecha original sería el viernes 20 de noviembre\, pero las autoridades confirmaron el traspaso para que haya un fin de semana largo
URL:https://inmoconfianza.com/event/lunes-23-de-noviembre-dia-de-la-soberania-nacional/
END:VEVENT
BEGIN:VEVENT
DTSTART;VALUE=DATE:20261204
DTEND;VALUE=DATE:20261209
DTSTAMP:20260422T014655
CREATED:20260219T122944Z
LAST-MODIFIED:20260219T122944Z
UID:1081-1796342400-1796774399@inmoconfianza.com
SUMMARY:Finde XXL: Feriado religioso
DESCRIPTION:
URL:https://inmoconfianza.com/event/finde-xxl-feriado-religioso/
END:VEVENT
BEGIN:VEVENT
DTSTART;VALUE=DATE:20261224
DTEND;VALUE=DATE:20261228
DTSTAMP:20260422T014655
CREATED:20260219T123021Z
LAST-MODIFIED:20260219T123021Z
UID:1083-1798070400-1798415999@inmoconfianza.com
SUMMARY:Feliz Navidad!
DESCRIPTION:
URL:https://inmoconfianza.com/event/feliz-navidad/
END:VEVENT
END:VCALENDAR