BEGIN:VCALENDAR
VERSION:2.0
PRODID:-//Inmobiliaria Confianza - ECPv6.15.13//NONSGML v1.0//EN
CALSCALE:GREGORIAN
METHOD:PUBLISH
X-WR-CALNAME:Inmobiliaria Confianza
X-ORIGINAL-URL:https://inmoconfianza.com
X-WR-CALDESC:Eventos para Inmobiliaria Confianza
REFRESH-INTERVAL;VALUE=DURATION:PT1H
X-Robots-Tag:noindex
X-PUBLISHED-TTL:PT1H
BEGIN:VTIMEZONE
TZID:UTC
BEGIN:STANDARD
TZOFFSETFROM:+0000
TZOFFSETTO:+0000
TZNAME:UTC
DTSTART:20250101T000000
END:STANDARD
END:VTIMEZONE
BEGIN:VEVENT
DTSTART;VALUE=DATE:20260416
DTEND;VALUE=DATE:20260420
DTSTAMP:20260421T195617
CREATED:20251028T142503Z
LAST-MODIFIED:20251028T142542Z
UID:759-1776297600-1776643199@inmoconfianza.com
SUMMARY:Semana Santa 2026
DESCRIPTION:
URL:https://inmoconfianza.com/event/semana-santa/
END:VEVENT
END:VCALENDAR